BEGIN:VCALENDAR
VERSION:2.0
PRODID:-//ChamberMaster//Event Calendar 2.0//EN
METHOD:PUBLISH
X-PUBLISHED-TTL:P3D
REFRESH-INTERVAL:P3D
CALSCALE:GREGORIAN
BEGIN:VEVENT
DTSTART:20260508T130000Z
DTEND:20260508T170000Z
X-MICROSOFT-CDO-ALLDAYEVENT:FALSE
SUMMARY:Cajun Classic Golf Tournament
DESCRIPTION:Join us for a premier day on the greens where every drive and putt helps provide hope for neighbors in need. The Cajun Classic is an annual golf tournament dedicated to raising essential funds for the cancer programs at Baptist Hospitals of Southeast Texas. Combining a love for the game with the spirit of giving\, this tournament is one of the highlight events on the Beaumont community calendar.
X-ALT-DESC;FMTTYPE=text/html:Join us for a premier day on the greens where every drive and putt helps provide hope for neighbors in need. The Cajun Classic is an annual golf tournament dedicated to raising essential funds for the cancer programs at Baptist Hospitals of Southeast Texas. Combining a love for the game with the spirit of giving\, this tournament is one of the highlight events on the Beaumont community calendar.
LOCATION:Beaumont Country Club
UID:e.1276.12403
SEQUENCE:3
DTSTAMP:20260422T202254Z
URL:https://business.bmtcoc.org/events/details/cajun-classic-golf-tournament-12403
END:VEVENT

END:VCALENDAR
